BEGIN:VCALENDAR
VERSION:2.0
PRODID:-//Scottish Orchid Society - ECPv6.15.20//NONSGML v1.0//EN
CALSCALE:GREGORIAN
METHOD:PUBLISH
X-WR-CALNAME:Scottish Orchid Society
X-ORIGINAL-URL:https://www.scottishorchid.org
X-WR-CALDESC:Events for Scottish Orchid Society
REFRESH-INTERVAL;VALUE=DURATION:PT1H
X-Robots-Tag:noindex
X-PUBLISHED-TTL:PT1H
BEGIN:VTIMEZONE
TZID:Europe/London
BEGIN:DAYLIGHT
TZOFFSETFROM:+0000
TZOFFSETTO:+0100
TZNAME:BST
DTSTART:20250330T010000
END:DAYLIGHT
BEGIN:STANDARD
TZOFFSETFROM:+0100
TZOFFSETTO:+0000
TZNAME:GMT
DTSTART:20251026T010000
END:STANDARD
BEGIN:DAYLIGHT
TZOFFSETFROM:+0000
TZOFFSETTO:+0100
TZNAME:BST
DTSTART:20260329T010000
END:DAYLIGHT
BEGIN:STANDARD
TZOFFSETFROM:+0100
TZOFFSETTO:+0000
TZNAME:GMT
DTSTART:20261025T010000
END:STANDARD
BEGIN:DAYLIGHT
TZOFFSETFROM:+0000
TZOFFSETTO:+0100
TZNAME:BST
DTSTART:20270328T010000
END:DAYLIGHT
BEGIN:STANDARD
TZOFFSETFROM:+0100
TZOFFSETTO:+0000
TZNAME:GMT
DTSTART:20271031T010000
END:STANDARD
END:VTIMEZONE
BEGIN:VEVENT
DTSTART;TZID=Europe/London:20260421T073000
DTEND;TZID=Europe/London:20260421T210000
DTSTAMP:20260422T195714
CREATED:20260409T145846Z
LAST-MODIFIED:20260409T154302Z
UID:1714-1776756600-1776805200@www.scottishorchid.org
SUMMARY:Members' Zoom Meeting
DESCRIPTION:April Meeting: World Orchid Conference Highlights – Online Edition.\nIf you can’t make it to Glasgow or Edinburgh this month\, we’d still love you to be part of the April meeting. Several members of the Scottish Orchid Society travelled to Dresden for the World Orchid Conference\, and we’re hosting a special Zoom session so you can enjoy the experience too. \nOur online presentation will include a selection of photographs with a slightly different tour of the displays\, plants\, and moments that caught our travellers’ eyes. Join us on Zoom for an easy\, relaxed evening of orchids\, stories\, and shared enthusiasm from the comfort of home. \nGeneral Information\nOur online meetings connect members countrywide to share orchid experiences\, display their plants in bloom\, and sometimes feature presentations on orchid topics. You can seek advice about orchid care during these sessions. Details and joining instructions are sent by email; meetings are open only to Society members\, and new members are welcome. To join\, visit our MEMBERSHIP page\, or for more information\, contact the organiser or use our CONTACT US page.
URL:https://www.scottishorchid.org/event/members-zoom-meeting/
LOCATION:Online
CATEGORIES:Zoom
ATTACH;FMTTYPE=image/webp:https://www.scottishorchid.org/wp-content/uploads/2026/04/WOC-Zoom-Talk-web-heading.webp
ORGANIZER;CN="Alan Mackenzie":MAILTO:info@scottishorchid.org
END:VEVENT
END:VCALENDAR