BEGIN:VCALENDAR
VERSION:2.0
PRODID:-//Scottish Orchid Society - ECPv6.15.20//NONSGML v1.0//EN
CALSCALE:GREGORIAN
METHOD:PUBLISH
X-WR-CALNAME:Scottish Orchid Society
X-ORIGINAL-URL:https://www.scottishorchid.org
X-WR-CALDESC:Events for Scottish Orchid Society
REFRESH-INTERVAL;VALUE=DURATION:PT1H
X-Robots-Tag:noindex
X-PUBLISHED-TTL:PT1H
BEGIN:VTIMEZONE
TZID:Europe/London
BEGIN:DAYLIGHT
TZOFFSETFROM:+0000
TZOFFSETTO:+0100
TZNAME:BST
DTSTART:20240331T010000
END:DAYLIGHT
BEGIN:STANDARD
TZOFFSETFROM:+0100
TZOFFSETTO:+0000
TZNAME:GMT
DTSTART:20241027T010000
END:STANDARD
BEGIN:DAYLIGHT
TZOFFSETFROM:+0000
TZOFFSETTO:+0100
TZNAME:BST
DTSTART:20250330T010000
END:DAYLIGHT
BEGIN:STANDARD
TZOFFSETFROM:+0100
TZOFFSETTO:+0000
TZNAME:GMT
DTSTART:20251026T010000
END:STANDARD
BEGIN:DAYLIGHT
TZOFFSETFROM:+0000
TZOFFSETTO:+0100
TZNAME:BST
DTSTART:20260329T010000
END:DAYLIGHT
BEGIN:STANDARD
TZOFFSETFROM:+0100
TZOFFSETTO:+0000
TZNAME:GMT
DTSTART:20261025T010000
END:STANDARD
END:VTIMEZONE
BEGIN:VEVENT
DTSTART;TZID=Europe/London:20251030T193000
DTEND;TZID=Europe/London:20251030T210000
DTSTAMP:20260423T063333
CREATED:20250213T175659Z
LAST-MODIFIED:20251029T204808Z
UID:1280-1761852600-1761858000@www.scottishorchid.org
SUMMARY:Members Zoom Meeting
DESCRIPTION:Topic for this month: The Devon Orchid Weekend \n\nOur online meeting where members from around the country can meet\, share their orchid experiences as well as show any plants they have in bloom. We sometimes have talks/presentations on orchid related subjects and you will also have the opportunity to seek advice on any cultural problems you are having. Full details about the meeting\, including joining instructions\, are circulated to members by email. These Zoom meetings are restricted to members of the Society and we welcome new members. To join the Society visit our MEMBERSHIP page. For further information contact the organiser or send a message via our CONTACT US page. \nPlease note: This Zoom meeting replaces the Edinburgh meeting as we will be taking a winter break. In-person meetings in Edinburgh will recommence in March 2026
URL:https://www.scottishorchid.org/event/edinburgh-monthly-meeting-20/
LOCATION:Online
CATEGORIES:Zoom
ATTACH;FMTTYPE=image/jpeg:https://www.scottishorchid.org/wp-content/uploads/2025/02/Devon-Orchid-Weekend.jpg
ORGANIZER;CN="Alan Mackenzie":MAILTO:info@scottishorchid.org
END:VEVENT
END:VCALENDAR