BEGIN:VCALENDAR
VERSION:2.0
PRODID:-//Scottish Orchid Society - ECPv6.15.20//NONSGML v1.0//EN
CALSCALE:GREGORIAN
METHOD:PUBLISH
X-ORIGINAL-URL:https://www.scottishorchid.org
X-WR-CALDESC:Events for Scottish Orchid Society
REFRESH-INTERVAL;VALUE=DURATION:PT1H
X-Robots-Tag:noindex
X-PUBLISHED-TTL:PT1H
BEGIN:VTIMEZONE
TZID:Europe/London
BEGIN:DAYLIGHT
TZOFFSETFROM:+0000
TZOFFSETTO:+0100
TZNAME:BST
DTSTART:20250330T010000
END:DAYLIGHT
BEGIN:STANDARD
TZOFFSETFROM:+0100
TZOFFSETTO:+0000
TZNAME:GMT
DTSTART:20251026T010000
END:STANDARD
BEGIN:DAYLIGHT
TZOFFSETFROM:+0000
TZOFFSETTO:+0100
TZNAME:BST
DTSTART:20260329T010000
END:DAYLIGHT
BEGIN:STANDARD
TZOFFSETFROM:+0100
TZOFFSETTO:+0000
TZNAME:GMT
DTSTART:20261025T010000
END:STANDARD
BEGIN:DAYLIGHT
TZOFFSETFROM:+0000
TZOFFSETTO:+0100
TZNAME:BST
DTSTART:20270328T010000
END:DAYLIGHT
BEGIN:STANDARD
TZOFFSETFROM:+0100
TZOFFSETTO:+0000
TZNAME:GMT
DTSTART:20271031T010000
END:STANDARD
END:VTIMEZONE
BEGIN:VEVENT
DTSTART;TZID=Europe/London:20260326T070000
DTEND;TZID=Europe/London:20260326T210000
DTSTAMP:20260423T034644
CREATED:20260315T122630Z
LAST-MODIFIED:20260316T220710Z
UID:1666-1774508400-1774558800@www.scottishorchid.org
SUMMARY:Edinburgh Monthly Meeting
DESCRIPTION:Topic for this month: \n\nJoin us for our monthly meeting in Edinburgh. Our meetings can consist of an illustrated talk or practical sessions where you can learn aspects of orchid cultivation under the guidance of our resident experts who will also be happy to answer your queries on orchid cultivation and/or pest and disease control. We usually have a table show of members’ plants with plenty of opportunities to socialise and exchange ideas. There is a monthly raffle and refreshments are available. Why not come along and see what we have to offer. Your first meeting is free. To join the Society visit our MEMBERSHIP page. For further information contact the organiser\, Rob Jones\, or send us a message via our CONTACT US page.
URL:https://www.scottishorchid.org/event/edinburgh-monthly-meeting/
LOCATION:St. Fillan’s Episcopal Church Hall\, 8 Buckstone Drive\, Edinburgh\, EH10 6PD
CATEGORIES:Talk
ORGANIZER;CN="Robert Jones":MAILTO:info@scottishorchid.org
END:VEVENT
END:VCALENDAR