BEGIN:VCALENDAR
VERSION:2.0
PRODID:-//Scottish Orchid Society - ECPv6.15.20//NONSGML v1.0//EN
CALSCALE:GREGORIAN
METHOD:PUBLISH
X-ORIGINAL-URL:https://www.scottishorchid.org
X-WR-CALDESC:Events for Scottish Orchid Society
REFRESH-INTERVAL;VALUE=DURATION:PT1H
X-Robots-Tag:noindex
X-PUBLISHED-TTL:PT1H
BEGIN:VTIMEZONE
TZID:Europe/London
BEGIN:DAYLIGHT
TZOFFSETFROM:+0000
TZOFFSETTO:+0100
TZNAME:BST
DTSTART:20250330T010000
END:DAYLIGHT
BEGIN:STANDARD
TZOFFSETFROM:+0100
TZOFFSETTO:+0000
TZNAME:GMT
DTSTART:20251026T010000
END:STANDARD
BEGIN:DAYLIGHT
TZOFFSETFROM:+0000
TZOFFSETTO:+0100
TZNAME:BST
DTSTART:20260329T010000
END:DAYLIGHT
BEGIN:STANDARD
TZOFFSETFROM:+0100
TZOFFSETTO:+0000
TZNAME:GMT
DTSTART:20261025T010000
END:STANDARD
BEGIN:DAYLIGHT
TZOFFSETFROM:+0000
TZOFFSETTO:+0100
TZNAME:BST
DTSTART:20270328T010000
END:DAYLIGHT
BEGIN:STANDARD
TZOFFSETFROM:+0100
TZOFFSETTO:+0000
TZNAME:GMT
DTSTART:20271031T010000
END:STANDARD
END:VTIMEZONE
BEGIN:VEVENT
DTSTART;TZID=Europe/London:20260308T140000
DTEND;TZID=Europe/London:20260308T160000
DTSTAMP:20260422T225125
CREATED:20251208T163213Z
LAST-MODIFIED:20260308T071950Z
UID:1520-1772978400-1772985600@www.scottishorchid.org
SUMMARY:Glasgow Monthly Meeting
DESCRIPTION:Topic for this month: Judging of the 2024/25 Seedling Competition\n \n\nSpring is the perfect time to check if your orchids need repotting. This will be a hands-on session\, so bring along any orchids you’d like advice on. Be sure to bring any new pot you plan to use (remember\, bigger isn’t always better)\, though orchid bark will be provided. There will be a small fee for repotting.\n\n\nIf you have an ailing orchid\, our resident “experts” will also be happy to offer guidance.\n\n\nWe’ll have our usual display table for you to showcase your flowering orchids for everyone to enjoy. Tea\, coffee\, and cake will be available too!\n\n\nIf you aren’t currently a member your first meeting is free\, just get in touch via our CONTACT page\n\n\n\nJoin us for our monthly meeting in Glasgow. Our meetings can consist of an illustrated talk or practical sessions where you can learn aspects of orchid cultivation under the guidance of our resident experts who will also be happy to answer your queries on orchid cultivation and/or pest and disease control. We usually have a table show of members’ plants with plenty of opportunities to socialise and exchange ideas. Refreshments are available. Why not come along and see what we have to offer. Your first meeting is free. Doors open from 1:30pm. \nTo join the Society visit our MEMBERSHIP page. \nPlease note that there is no parking within the Botanic Gardens. A guide to parking in the surrounding area can be downloaded here. For further information contact the organiser or send us a message via our CONTACT US page.
URL:https://www.scottishorchid.org/event/glasgow-monthly-meeting-17/
LOCATION:Glasgow Botanic Gardens (Hopkirk Room)\, 730 Great Western Road\, Glasgow\, G12 0UE
CATEGORIES:Monthly Meetings,Practical Session
ATTACH;FMTTYPE=image/jpeg:https://www.scottishorchid.org/wp-content/uploads/2025/12/Repotting-Image-Katy.jpeg
ORGANIZER;CN="Alan Mackenzie":MAILTO:info@scottishorchid.org
END:VEVENT
END:VCALENDAR