BEGIN:VCALENDAR
VERSION:2.0
PRODID:-//Scottish Orchid Society - ECPv6.15.20//NONSGML v1.0//EN
CALSCALE:GREGORIAN
METHOD:PUBLISH
X-WR-CALNAME:Scottish Orchid Society
X-ORIGINAL-URL:https://www.scottishorchid.org
X-WR-CALDESC:Events for Scottish Orchid Society
REFRESH-INTERVAL;VALUE=DURATION:PT1H
X-Robots-Tag:noindex
X-PUBLISHED-TTL:PT1H
BEGIN:VTIMEZONE
TZID:Europe/London
BEGIN:DAYLIGHT
TZOFFSETFROM:+0000
TZOFFSETTO:+0100
TZNAME:BST
DTSTART:20250330T010000
END:DAYLIGHT
BEGIN:STANDARD
TZOFFSETFROM:+0100
TZOFFSETTO:+0000
TZNAME:GMT
DTSTART:20251026T010000
END:STANDARD
BEGIN:DAYLIGHT
TZOFFSETFROM:+0000
TZOFFSETTO:+0100
TZNAME:BST
DTSTART:20260329T010000
END:DAYLIGHT
BEGIN:STANDARD
TZOFFSETFROM:+0100
TZOFFSETTO:+0000
TZNAME:GMT
DTSTART:20261025T010000
END:STANDARD
BEGIN:DAYLIGHT
TZOFFSETFROM:+0000
TZOFFSETTO:+0100
TZNAME:BST
DTSTART:20270328T010000
END:DAYLIGHT
BEGIN:STANDARD
TZOFFSETFROM:+0100
TZOFFSETTO:+0000
TZNAME:GMT
DTSTART:20271031T010000
END:STANDARD
END:VTIMEZONE
BEGIN:VEVENT
DTSTART;VALUE=DATE:20260509
DTEND;VALUE=DATE:20260511
DTSTAMP:20260422T145722
CREATED:20251208T163453Z
LAST-MODIFIED:20251208T163453Z
UID:1524-1778284800-1778457599@www.scottishorchid.org
SUMMARY:Glasgow Botanic Gardens Orchid Fair
DESCRIPTION:
URL:https://www.scottishorchid.org/event/glasgow-botanic-gardens-orchid-fair-3/
LOCATION:Glasgow Botanic Gardens (Kibble Palace)\, 730 Great Western Road\, Glasgow\, G12 0UE
CATEGORIES:Orchid Show
ORGANIZER;CN="Alan Mackenzie":MAILTO:info@scottishorchid.org
END:VEVENT
BEGIN:VEVENT
DTSTART;VALUE=DATE:20260618
DTEND;VALUE=DATE:20260622
DTSTAMP:20260422T145722
CREATED:20251208T164850Z
LAST-MODIFIED:20251208T164850Z
UID:1536-1781740800-1782086399@www.scottishorchid.org
SUMMARY:International Orchid Show at Gardeners World Live
DESCRIPTION:
URL:https://www.scottishorchid.org/event/international-orchid-show-at-gardeners-world-live/
LOCATION:National Exhibition Centre\, Pendigo Way\, Marston Green\, Birmingham\, B40 1NT
CATEGORIES:Orchid Show
END:VEVENT
END:VCALENDAR