BEGIN:VCALENDAR
VERSION:2.0
PRODID:-//Scottish Orchid Society - ECPv6.15.20//NONSGML v1.0//EN
CALSCALE:GREGORIAN
METHOD:PUBLISH
X-ORIGINAL-URL:https://www.scottishorchid.org
X-WR-CALDESC:Events for Scottish Orchid Society
REFRESH-INTERVAL;VALUE=DURATION:PT1H
X-Robots-Tag:noindex
X-PUBLISHED-TTL:PT1H
BEGIN:VTIMEZONE
TZID:Europe/London
BEGIN:DAYLIGHT
TZOFFSETFROM:+0000
TZOFFSETTO:+0100
TZNAME:BST
DTSTART:20240331T010000
END:DAYLIGHT
BEGIN:STANDARD
TZOFFSETFROM:+0100
TZOFFSETTO:+0000
TZNAME:GMT
DTSTART:20241027T010000
END:STANDARD
BEGIN:DAYLIGHT
TZOFFSETFROM:+0000
TZOFFSETTO:+0100
TZNAME:BST
DTSTART:20250330T010000
END:DAYLIGHT
BEGIN:STANDARD
TZOFFSETFROM:+0100
TZOFFSETTO:+0000
TZNAME:GMT
DTSTART:20251026T010000
END:STANDARD
BEGIN:DAYLIGHT
TZOFFSETFROM:+0000
TZOFFSETTO:+0100
TZNAME:BST
DTSTART:20260329T010000
END:DAYLIGHT
BEGIN:STANDARD
TZOFFSETFROM:+0100
TZOFFSETTO:+0000
TZNAME:GMT
DTSTART:20261025T010000
END:STANDARD
END:VTIMEZONE
BEGIN:VEVENT
DTSTART;TZID=Europe/London:20251026T100000
DTEND;TZID=Europe/London:20251026T160000
DTSTAMP:20260423T054000
CREATED:20251023T120802Z
LAST-MODIFIED:20251023T124417Z
UID:1491-1761472800-1761494400@www.scottishorchid.org
SUMMARY:Orchid Display with the Royal Caledonian Horticultural Society
DESCRIPTION:This Sunday we will be putting on a display in conjunction with the Royal Caledonian Horticultural Society (The Caley). This is a new venture for us and the aim is promote the Scottish Orchid Society and orchid cultivation to members of the Caley and  the people of Edinburgh. \nWe don’t have many events in the Edinburgh area so why not take this opportunity to come along and visit us in the McHattie Room to learn about the range of orchids that our members grow. Members of the Society will be on hand to guide you on caring for these exotic plants and answer any orchid related questions you might have. Join on the day and get 14 month introductory membership. \nThe Caley founded in 1809 is Scotland’s National Horticultural & Gardening Society and has a long association with Edinburgh and Saughton Park. To find out more follow the links below
URL:https://www.scottishorchid.org/event/orchid-display-with-the-royal-caledonian-horticultural-society/
LOCATION:Saughton Park Gardens\, Balgreen Road\, Edinburgh\, EH11 3BQ
CATEGORIES:Orchid Show
ATTACH;FMTTYPE=image/jpeg:https://www.scottishorchid.org/wp-content/uploads/2025/10/Caley-Event.jpg
END:VEVENT
END:VCALENDAR