BEGIN:VCALENDAR
VERSION:2.0
PRODID:-//Scottish Orchid Society - ECPv6.15.20//NONSGML v1.0//EN
CALSCALE:GREGORIAN
METHOD:PUBLISH
X-WR-CALNAME:Scottish Orchid Society
X-ORIGINAL-URL:https://www.scottishorchid.org
X-WR-CALDESC:Events for Scottish Orchid Society
REFRESH-INTERVAL;VALUE=DURATION:PT1H
X-Robots-Tag:noindex
X-PUBLISHED-TTL:PT1H
BEGIN:VTIMEZONE
TZID:Europe/London
BEGIN:DAYLIGHT
TZOFFSETFROM:+0000
TZOFFSETTO:+0100
TZNAME:BST
DTSTART:20250330T010000
END:DAYLIGHT
BEGIN:STANDARD
TZOFFSETFROM:+0100
TZOFFSETTO:+0000
TZNAME:GMT
DTSTART:20251026T010000
END:STANDARD
BEGIN:DAYLIGHT
TZOFFSETFROM:+0000
TZOFFSETTO:+0100
TZNAME:BST
DTSTART:20260329T010000
END:DAYLIGHT
BEGIN:STANDARD
TZOFFSETFROM:+0100
TZOFFSETTO:+0000
TZNAME:GMT
DTSTART:20261025T010000
END:STANDARD
BEGIN:DAYLIGHT
TZOFFSETFROM:+0000
TZOFFSETTO:+0100
TZNAME:BST
DTSTART:20270328T010000
END:DAYLIGHT
BEGIN:STANDARD
TZOFFSETFROM:+0100
TZOFFSETTO:+0000
TZNAME:GMT
DTSTART:20271031T010000
END:STANDARD
END:VTIMEZONE
BEGIN:VEVENT
DTSTART;TZID=Europe/London:20260430T070000
DTEND;TZID=Europe/London:20260430T210000
DTSTAMP:20260422T145806
CREATED:20260409T160415Z
LAST-MODIFIED:20260409T160913Z
UID:1723-1777532400-1777582800@www.scottishorchid.org
SUMMARY:Edinburgh Monthly Meeting
DESCRIPTION:April Meeting:\nFor our final April gathering\, we’re delighted to bring the World Orchid Conference presentation to Edinburgh. This session will feature another selection of photographs giving members one more chance to enjoy the displays\, plants\, and highlights that made the trip so special. Join us in Edinburgh for an enjoyable evening of orchids\, conversation\, and shared discoveries. \nGeneral Information:\nOur meetings in Edinburgh can consist of an illustrated talk or practical sessions where you can learn aspects of orchid cultivation under the guidance of our resident experts who will also be happy to answer your queries on orchid cultivation and/or pest and disease control. We usually have a table show of members’ plants with plenty of opportunities to socialise and exchange ideas. There is a monthly raffle and refreshments are available. Why not come along and see what we have to offer. Your first meeting is free. To join the Society visit our MEMBERSHIP page. For further information contact the organiser\, Rob Jones\, or send us a message via our CONTACT US page.
URL:https://www.scottishorchid.org/event/1723/
LOCATION:St. Fillan’s Episcopal Church Hall\, 8 Buckstone Drive\, Edinburgh\, EH10 6PD
CATEGORIES:Monthly Meetings
ATTACH;FMTTYPE=image/webp:https://www.scottishorchid.org/wp-content/uploads/2026/04/WOC-web-heading-Edinburgh.webp
ORGANIZER;CN="Robert Jones":MAILTO:info@scottishorchid.org
END:VEVENT
BEGIN:VEVENT
DTSTART;TZID=Europe/London:20260607T140000
DTEND;TZID=Europe/London:20260607T160000
DTSTAMP:20260422T145806
CREATED:20251208T163750Z
LAST-MODIFIED:20251208T163750Z
UID:1526-1780840800-1780848000@www.scottishorchid.org
SUMMARY:Glasgow Monthly Meeting
DESCRIPTION:
URL:https://www.scottishorchid.org/event/glasgow-monthly-meeting-19/
LOCATION:Glasgow Botanic Gardens (Hopkirk Room)\, 730 Great Western Road\, Glasgow\, G12 0UE
CATEGORIES:Monthly Meetings
ORGANIZER;CN="Alan Mackenzie":MAILTO:info@scottishorchid.org
END:VEVENT
BEGIN:VEVENT
DTSTART;TZID=Europe/London:20260913T140000
DTEND;TZID=Europe/London:20260913T160000
DTSTAMP:20260422T145806
CREATED:20251208T163909Z
LAST-MODIFIED:20251208T164008Z
UID:1528-1789308000-1789315200@www.scottishorchid.org
SUMMARY:Glasgow Monthly Meeting
DESCRIPTION:
URL:https://www.scottishorchid.org/event/glasgow-monthly-meeting-20/
LOCATION:Glasgow Botanic Gardens (Hopkirk Room)\, 730 Great Western Road\, Glasgow\, G12 0UE
CATEGORIES:Monthly Meetings
ORGANIZER;CN="Alan Mackenzie":MAILTO:info@scottishorchid.org
END:VEVENT
BEGIN:VEVENT
DTSTART;TZID=Europe/London:20261011T140000
DTEND;TZID=Europe/London:20261011T160000
DTSTAMP:20260422T145806
CREATED:20251208T164120Z
LAST-MODIFIED:20251208T164120Z
UID:1530-1791727200-1791734400@www.scottishorchid.org
SUMMARY:Glasgow Montly Meeting
DESCRIPTION:
URL:https://www.scottishorchid.org/event/glasgow-montly-meeting/
LOCATION:Glasgow Botanic Gardens (Hopkirk Room)\, 730 Great Western Road\, Glasgow\, G12 0UE
CATEGORIES:Monthly Meetings
ORGANIZER;CN="Alan Mackenzie":MAILTO:info@scottishorchid.org
END:VEVENT
BEGIN:VEVENT
DTSTART;TZID=Europe/London:20261108T140000
DTEND;TZID=Europe/London:20261108T160000
DTSTAMP:20260422T145806
CREATED:20251208T164232Z
LAST-MODIFIED:20251208T164232Z
UID:1532-1794146400-1794153600@www.scottishorchid.org
SUMMARY:Glasgow Monthly Meeting
DESCRIPTION:
URL:https://www.scottishorchid.org/event/glasgow-monthly-meeting-21/
LOCATION:Glasgow Botanic Gardens (Hopkirk Room)\, 730 Great Western Road\, Glasgow\, G12 0UE
CATEGORIES:Monthly Meetings
ORGANIZER;CN="Alan Mackenzie":MAILTO:info@scottishorchid.org
END:VEVENT
BEGIN:VEVENT
DTSTART;TZID=Europe/London:20261206T140000
DTEND;TZID=Europe/London:20261206T160000
DTSTAMP:20260422T145806
CREATED:20251208T164341Z
LAST-MODIFIED:20251208T164341Z
UID:1534-1796565600-1796572800@www.scottishorchid.org
SUMMARY:Glasgow Monthly Meeting
DESCRIPTION:
URL:https://www.scottishorchid.org/event/glasgow-monthly-meeting-22/
LOCATION:Glasgow Botanic Gardens (Hopkirk Room)\, 730 Great Western Road\, Glasgow\, G12 0UE
CATEGORIES:Monthly Meetings
ORGANIZER;CN="Alan Mackenzie":MAILTO:info@scottishorchid.org
END:VEVENT
END:VCALENDAR