BEGIN:VCALENDAR
VERSION:2.0
PRODID:-//Scottish Orchid Society - ECPv6.15.20//NONSGML v1.0//EN
CALSCALE:GREGORIAN
METHOD:PUBLISH
X-WR-CALNAME:Scottish Orchid Society
X-ORIGINAL-URL:https://www.scottishorchid.org
X-WR-CALDESC:Events for Scottish Orchid Society
REFRESH-INTERVAL;VALUE=DURATION:PT1H
X-Robots-Tag:noindex
X-PUBLISHED-TTL:PT1H
BEGIN:VTIMEZONE
TZID:Europe/London
BEGIN:DAYLIGHT
TZOFFSETFROM:+0000
TZOFFSETTO:+0100
TZNAME:BST
DTSTART:20250330T010000
END:DAYLIGHT
BEGIN:STANDARD
TZOFFSETFROM:+0100
TZOFFSETTO:+0000
TZNAME:GMT
DTSTART:20251026T010000
END:STANDARD
BEGIN:DAYLIGHT
TZOFFSETFROM:+0000
TZOFFSETTO:+0100
TZNAME:BST
DTSTART:20260329T010000
END:DAYLIGHT
BEGIN:STANDARD
TZOFFSETFROM:+0100
TZOFFSETTO:+0000
TZNAME:GMT
DTSTART:20261025T010000
END:STANDARD
BEGIN:DAYLIGHT
TZOFFSETFROM:+0000
TZOFFSETTO:+0100
TZNAME:BST
DTSTART:20270328T010000
END:DAYLIGHT
BEGIN:STANDARD
TZOFFSETFROM:+0100
TZOFFSETTO:+0000
TZNAME:GMT
DTSTART:20271031T010000
END:STANDARD
END:VTIMEZONE
BEGIN:VEVENT
DTSTART;VALUE=DATE:20260814
DTEND;VALUE=DATE:20260816
DTSTAMP:20260422T182114
CREATED:20260409T125234Z
LAST-MODIFIED:20260409T125234Z
UID:1706-1786665600-1786838399@www.scottishorchid.org
SUMMARY:Ayr & District Flower Show
DESCRIPTION:A much-loved fixture in the Ayrshire calendar for many years\, The Ayr & District Flower Show was established in 2017 to keep the event running for the public and is the only flower show running in Ayr and the Scottish Orchid Society will be displaying for the fourth consecutive year.​ \nSet up as a Flower Show that is based around horticulture and focusing on the plants and traders\, the A&DFS gives everyone a chance to show off a variety of works to the general public in the hope of taking home one of our keepsake prizes for best on the class.​ \nHeld at Ayr Racecourse\, there is a variety of thing’s to see under the roof of the Ayrshire Suite and surrounding marquee’s that feature different craft and traders for everyone to see. More than just flowers on display. There is also a variety of entertainment on offer over the two days of the show ranging from Scottish dance to 50’s/60’s/blues music\, and much more \nOpen 10am to 5pm\, with free parking. Accompanied children under 16 are free.
URL:https://www.scottishorchid.org/event/ayr-district-flower-show/
LOCATION:Ayr Racecourse\, Whitletts Road\, Ayr\, KA8 0JE
CATEGORIES:Flower Show
ATTACH;FMTTYPE=image/webp:https://www.scottishorchid.org/wp-content/uploads/2026/04/Ayr-Heading.webp
ORGANIZER;CN="Ayr & District Flower Show":MAILTO:ayranddistrictflowershow@gmail.com
END:VEVENT
END:VCALENDAR